 BEGIN:VCALENDAR
VERSION:2.0
PRODID:-//Export Bahrain - ECPv6.15.15//NONSGML v1.0//EN
CALSCALE:GREGORIAN
METHOD:PUBLISH
X-ORIGINAL-URL:https://export.bh
X-WR-CALDESC:Events for Export Bahrain
REFRESH-INTERVAL;VALUE=DURATION:PT1H
X-Robots-Tag:noindex
X-PUBLISHED-TTL:PT1H
BEGIN:VTIMEZONE
TZID:Europe/Moscow
BEGIN:STANDARD
TZOFFSETFROM:+0300
TZOFFSETTO:+0300
TZNAME:MSK
DTSTART:20230101T000000
END:STANDARD
END:VTIMEZONE
BEGIN:VEVENT
DTSTART;VALUE=DATE:20241204
DTEND;VALUE=DATE:20241208
DTSTAMP:20260424T223507
CREATED:20240318T035446Z
LAST-MODIFIED:20240319T072119Z
UID:2673-1733270400-1733615999@export.bh
SUMMARY:The Big 5 2024
DESCRIPTION:Location: Dubai\, United Arab Emirates
URL:https://export.bh/export-event/the-big-5-2024/
CATEGORIES:Architectural and engineering
END:VEVENT
END:VCALENDAR