 BEGIN:VCALENDAR
VERSION:2.0
PRODID:-//Export Bahrain - ECPv6.15.15//NONSGML v1.0//EN
CALSCALE:GREGORIAN
METHOD:PUBLISH
X-ORIGINAL-URL:https://export.bh
X-WR-CALDESC:Events for Export Bahrain
REFRESH-INTERVAL;VALUE=DURATION:PT1H
X-Robots-Tag:noindex
X-PUBLISHED-TTL:PT1H
BEGIN:VTIMEZONE
TZID:Europe/Moscow
BEGIN:STANDARD
TZOFFSETFROM:+0300
TZOFFSETTO:+0300
TZNAME:MSK
DTSTART:20230101T000000
END:STANDARD
END:VTIMEZONE
BEGIN:VEVENT
DTSTART;VALUE=DATE:20241105
DTEND;VALUE=DATE:20241111
DTSTAMP:20260424T223540
CREATED:20240318T035446Z
LAST-MODIFIED:20240808T043708Z
UID:2672-1730764800-1731283199@export.bh
SUMMARY:China International Import Expo
DESCRIPTION:
URL:https://export.bh/export-event/china-international-import-expo/
LOCATION:China
CATEGORIES:Construction and industry
END:VEVENT
BEGIN:VEVENT
DTSTART;VALUE=DATE:20240304
DTEND;VALUE=DATE:20240307
DTSTAMP:20260424T223540
CREATED:20240318T035441Z
LAST-MODIFIED:20240318T052950Z
UID:2668-1709510400-1709769599@export.bh
SUMMARY:The Big 5 Saudi 2024
DESCRIPTION:Riyadh\, Saudi Arabia
URL:https://export.bh/export-event/the-big-5-saudi-2024/
CATEGORIES:Construction and industry
END:VEVENT
END:VCALENDAR